Workbook

Sheet Sources
A1: AVB Per Share Analysis (10-K and 10-Q): Sources and Decisions
A3: Tab | B3: Series / Metric | C3: Source Organization | D3: Source Type | E3: Source Location | F3: Update Cadence | G3: Last Verified
A4: Quarterly Data | B4: 2016: discrete NOI recon, FFO/Core FFO, EBITDA(re), capex attachment (2018+), balance sheet, debt, shares, dividends rates | C4: AvalonBay Communities | D4: Primary (company filings) | E4: REIT FILES/AVB/: 1Q16-results.pdf; 2Q16-results.pdf; 3Q16-results.pdf; avb-q4-2016-8k-ex992.htm (each verified by cover-date content) | F4: Frozen | G4: 2026-08-17
A5: Quarterly Data | B5: 2016: CFO YTD, capital expenditures existing real estate YTD, dividends declared (equity statements) | C5: AvalonBay Communities | D5: Primary (company filings) | E5: REIT FILES/AVB/: 0000915912-16-000030-xbrl.zip; 0000915912-16-000034-xbrl.zip; 0000915912-16-000038-xbrl.zip; 0000915912-17-000004-xbrl.zip; avb-10k-fy2016.htm (10-Q/10-K, verified by period-end date) | F5: Frozen | G5: 2026-08-17
A6: Quarterly Data | B6: 2017: discrete NOI recon, FFO/Core FFO, EBITDA(re), capex attachment (2018+), balance sheet, debt, shares, dividends rates | C6: AvalonBay Communities | D6: Primary (company filings) | E6: REIT FILES/AVB/: 1Q17-results.pdf; 2Q17-results.pdf; 3Q17-results.pdf; avb-q4-2017-8k-ex992.htm (each verified by cover-date content) | F6: Frozen | G6: 2026-08-17
A7: Quarterly Data | B7: 2017: CFO YTD, capital expenditures existing real estate YTD, dividends declared (equity statements) | C7: AvalonBay Communities | D7: Primary (company filings) | E7: REIT FILES/AVB/: 0000915912-17-000010-xbrl.zip; 0000915912-17-000014-xbrl.zip; 0000915912-17-000018-xbrl.zip; 0000915912-18-000004-xbrl.zip (10-Q/10-K, verified by period-end date) | F7: Frozen | G7: 2026-08-17
A8: Quarterly Data | B8: 2018: discrete NOI recon, FFO/Core FFO, EBITDA(re), capex attachment (2018+), balance sheet, debt, shares, dividends rates | C8: AvalonBay Communities | D8: Primary (company filings) | E8: REIT FILES/AVB/: 1Q18 - MISSING TABLE.pdf; 2Q18-results.pdf; 3Q18-results.pdf; avb-q4-2018-8k-ex992.htm (each verified by cover-date content) | F8: Frozen | G8: 2026-08-17
A9: Quarterly Data | B9: 2018: CFO YTD, capital expenditures existing real estate YTD, dividends declared (equity statements) | C9: AvalonBay Communities | D9: Primary (company filings) | E9: REIT FILES/AVB/: 0000915912-18-000012-xbrl.zip; 0000915912-18-000016-xbrl.zip; 0000915912-18-000021-xbrl.zip; 0000915912-19-000004-xbrl.zip (10-Q/10-K, verified by period-end date) | F9: Frozen | G9: 2026-08-17
A10: Quarterly Data | B10: 2019: discrete NOI recon, FFO/Core FFO, EBITDA(re), capex attachment (2018+), balance sheet, debt, shares, dividends rates | C10: AvalonBay Communities | D10: Primary (company filings) | E10: REIT FILES/AVB/: 1Q19-results.pdf; 2Q19-results.pdf; 3Q19-results.pdf; avb-q4-2019-8k-ex992.htm (each verified by cover-date content) | F10: Frozen | G10: 2026-08-17
A11: Quarterly Data | B11: 2019: CFO YTD, capital expenditures existing real estate YTD, dividends declared (equity statements) | C11: AvalonBay Communities | D11: Primary (company filings) | E11: REIT FILES/AVB/: 0000915912-19-000014-xbrl.zip (avb-20190331.xml); 0000915912-19-000018-xbrl.zip (q2201910-q.htm); 0000915912-19-000022-xbrl.zip (q3201910-q.htm); 0000915912-20-000004-xbrl.zip (a201910-k.htm) (10-Q/10-K, verified by period-end date) | F11: Frozen | G11: 2026-08-17
A12: Quarterly Data | B12: 2020: discrete NOI recon, FFO/Core FFO, EBITDA(re), capex attachment (2018+), balance sheet, debt, shares, dividends rates | C12: AvalonBay Communities | D12: Primary (company filings) | E12: REIT FILES/AVB/: 1Q20-results.pdf; 2Q20-results.pdf; Q3-2020-Earnings-Release.pdf; avb-q4-2020-8k-ex992.htm (each verified by cover-date content) | F12: Frozen | G12: 2026-08-17
A13: Quarterly Data | B13: 2020: CFO YTD, capital expenditures existing real estate YTD, dividends declared (equity statements) | C13: AvalonBay Communities | D13: Primary (company filings) | E13: REIT FILES/AVB/: 0000915912-20-000018-xbrl.zip (q1202010-q.htm); 0000915912-20-000022-xbrl.zip (q2202010-q.htm); 0000915912-20-000027-xbrl.zip (avb-20200930.htm); 0000915912-21-000004-xbrl.zip (avb-20201231.htm) (10-Q/10-K, verified by period-end date) | F13: Frozen | G13: 2026-08-17
A14: Quarterly Data | B14: 2021: discrete NOI recon, FFO/Core FFO, EBITDA(re), capex attachment (2018+), balance sheet, debt, shares, dividends rates | C14: AvalonBay Communities | D14: Primary (company filings) | E14: REIT FILES/AVB/: Q1-2021-Earnings-Release.pdf; Q2-2021-EarningsRelease.pdf; Q3-2021-Earnings-Release1.pdf; avb-q4-2021-8k-ex992.htm (each verified by cover-date content) | F14: Frozen | G14: 2026-08-17
... A28: Quarterly / Quarterly Stabilized / CHARTS / Per Share / Whole Numbers | B28: All cells derive from Quarterly Data | C28: CRE42 | D28: Internal | E28: Formulas; no independent inputs | F28: - | G28: 2026-08-17
A30: Decisions
A31: Decisions | B31: Scope per Chip 2026-08-17: AVB quarterly per-share workbook mirroring EGP-individual-metrics.xlsx (renamed 2026-08-17; formerly egp-per-share-10k-10q.xlsx) tab structure; 42 quarters Q1 2016 - Q2 2026.
A32: Decisions | B32: STABILIZED BASIS, option (a) per Chip 2026-08-17: Dev & Land Value = balance-sheet "Construction in progress, including land" + "Land held for development" (consistent with multifamily-reit-metrics.xlsx AVB tab H/I after the 2026-07-24 redefinition). Boundary note: AVB moves assets out of CIP at COMPLETION, not stabilization, so lease-up drag after completion is not captured (EGP holds dev/value-add until stabilization). No AVB-published cross-check exists (AVB does not net development out of its leverage metrics).
A33: Decisions | B33: RECURRING CAPEX / AFFO, Option A per Chip 2026-08-17: 2018+ = Asset Preservation capex (release attachment, YTD differenced to discrete). 2016-2017 = 10-Q/10-K cash-flow "Capital expenditures - existing real estate assets" (YTD differenced) as a FLAGGED PROXY (no quarterly Asset Preservation disclosure exists pre-2018; proxy includes NOI-enhancing spend, cash basis). Annual aggregation = sum of quarters; FY attachment figures carried as cross-check rows (2016: 64,509; 2017: 59,522 per Q4-vintage tables; proxy sums run below these, memo row shows delta). AFFO = Core FFO less recurring capex; AVB publishes NO AFFO; no tie-out possible.
A34: Decisions | B34: EBITDAre SERIES: published EBITDAre 2018+ (exact); 2016-2017 derived as EBITDA derived + gains/casualty adjustments + removal of unconsolidated JV income (consolidated property-level EBITDAre; AVB share of JV EBITDAre not disclosed pre-2018, so JV contribution is excluded entirely those 8 quarters, roughly 1-2 percent understatement, and JV-level disposition gains cannot distort the series). EBITDA derived = NI + interest + extinguishment + income tax + depreciation; informational delta rows vs published are NOT tie-outs (published figures include unconsolidated-entity adjustments not itemized in the NOI recon; deltas grow to 1-2 percent from 2021). Revised 2026-08-17 after chart review (original derivation left JV gains in 2016-2017 quarters).
A35: Decisions | B35: NOI: consolidated, own-vintage current-quarter column only. AVB re-bases prior-period NOI each vintage for dispositions/held-for-sale, so sum of own-vintage quarters exceeds the FY-vintage figure (2016-2025 drift: +9.9M, +8.9M, +39.6M, +7.7M, +21.2M, +13.5M, +11.7M, +7.0M, +17.0M, +23.4M $000s x1000). FFO, Core FFO and interest sums tie to FY exactly. Policy per Chip 2026-08-17 mapping approval.
A36: Decisions | B36: DEBT at balance-sheet CARRYING value (MF-workbook convention) per Chip 2026-08-17; principal from the Debt Structure attachment recorded alongside; implied DFC/discount row is informational (quarterly DFC not consistently disclosed).
A37: Decisions | B37: MARKET CAP = quarter-end unadjusted close x (common shares + DownREIT OP units) EOP. AVB publishes NO share price or market equity value in any filing (verified Q4 2016/2019/2025 vintages); prices are MKT DATA inputs. No market-cap tie-out exists. Units: 7,500 through Q1 2023 (redeemed Q2 2023); 1,059,995 issued April 2025 (DFW acquisition); 980,058 at 6/30/2026 (redemptions).
A38: Decisions | B38: DIVIDENDS on DECLARED basis from 10-Q/10-K statements of changes in equity (release Attachment 1 differs by small participating-share amounts in several quarters; deltas noted in extraction files). Q1 2016 beginning-of-quarter price: 12/31/2015 close of 184.13 supplied by Chip 2026-08-17 (NYSE historical data; AVB IR price history begins 1/1/2016).
A39: Decisions | B39: Quarterly trailing ratios annualized x4 (AVB precedent: Net Debt-to-Core EBITDAre annualized as quarter x4 in every vintage).
A40: Decisions | B40: Q1 2018 vintage extracted from rendered page images of "1Q18 - MISSING TABLE.pdf" (SEC print of Ex-99.2, accession 0000915912-18-000010; garbled embedded text layer).
A41: Decisions | B41: Q2 2026 Core FFO pursuit-cost adjustment includes 12,367 of AVB/EQR merger costs (merger agreement 2026-05-20; close expected H2 2026). This workbook becomes the base for the combined entity going forward per Chip 2026-08-17.
A42: Decisions | B42: Extraction: 11 parallel per-year passes against per-quarter own-vintage documents, all verified by content; full per-figure citations in REIT FILES/AVB extraction JSONs (avb-extract/2016.json ... 2026.json, delivered alongside). All 42 NOI recons foot exactly; FY2016-FY2025 NOI/interest/Core FFO/asset-preservation/CIP/land/CFO/debt-principal each tie exactly to multifamily-reit-metrics.xlsx AVB tab.
A44: Legend
B45: Blue text: hardcoded input from a cited source. Black: formula. Green text: link to another tab. Green fill: tie-out cell (must read 0; informational delta rows are labeled as such and are not tie-outs).
A47: Decisions | B47: NAMING AND LOCATION (Chip 2026-08-17): workbook renamed AVB-individual-metrics.xlsx under the new individual-REIT naming protocol (EGP workbook likewise EGP-individual-metrics.xlsx). Canonical location: Data Link Files. REIT FILES folders hold source reports only; superseded copies moved to _to_delete.
A48: Decisions | B48: CHART COSMETICS (Chip screenshot review 2026-08-17): combo charts (NOI/TEV/multiple and leveraged CF/market cap/multiple, as-reported and stabilized) set to overlapped bars (overlap 100) so the red flow bar renders inside the gray capitalization bar, matching the CRE42 page style. Reading-the-bridge color swatches added to both CHARTS tabs. Bridge stack order (bottom up): AFFO, recurring capex, non-core adjustments, interest and other, G&A; the non-core segment renders below the axis in years where Core FFO exceeds FFO (net non-core charges added back), which is most years; the stack still tops out at exactly NOI.
A50: Decisions | B50: PRICE DENOMINATOR STANDARD (Chip 2026-08-18): every price-based denominator uses the quarter-end / year-end close, INCLUDING the dividend yield (quarterly: declared x4 / QE close; annual: declared / YE close). The average-share-price method (BOQ + EOQ)/2 and beginning-of-quarter price rows are deleted everywhere they appeared. A capitalization block (QE price; market cap and TEV, whole-$ and per share) now heads the Quarterly and Quarterly Stabilized tabs (rows 5-10); all content below shifted down 7 rows and every chart reference repointed. Applied identically to the EGP and AVB workbooks.
A52: Decisions | B52: INTRA-TAB RATIOS (Chip 2026-08-18): ratio and yield rows on the Quarterly and Quarterly Stabilized tabs compute from that tab's own per-share figures (numerator per-share x4 / capitalization per-share), so a reader can trace every ratio on the tab. These may differ slightly from the whole-dollar ratios on Quarterly Data and the CHARTS tabs (flow metrics use weighted average diluted shares; capitalization uses period-end shares). An italic note sits under every yield row. Seven note rows inserted per Quarterly tab; chart references repointed.

Sheet Per Share
A1: AVB: Per-Share Figures ($) - FY2025 and Q2 2026; flows on weighted average diluted shares (FY = average of quarters), balances on shares+units EOP
A3: Metric | B3: FY2025 | C3: Q2 2026
A4: Weighted average diluted shares (000s) | B4: =AVERAGE('Quarterly Data'!AL51:AO51) -> 142826.38 | C4: ='Quarterly Data'!AQ51 -> 141834.77
A5: NOI per share | B5: ='Whole Numbers'!B4/$B$4 -> 14.313777 | C5: ='Whole Numbers'!C4/$C$4 -> 3.7314123
A6: EBITDAre (published) per share | B6: ='Whole Numbers'!B5/$B$4 -> 13.432721 | C6: ='Whole Numbers'!C5/$C$4 -> 3.2844203
A7: FFO attributable to common per share | B7: ='Whole Numbers'!B6/$B$4 -> 11.397495 | C7: ='Whole Numbers'!C6/$C$4 -> 2.7324048
A8: Core FFO attributable to common per share | B8: ='Whole Numbers'!B7/$B$4 -> 11.24146 | C8: ='Whole Numbers'!C7/$C$4 -> 2.8627395
A9: Recurring capex (Asset Preservation, discrete summed) per share | B9: ='Whole Numbers'!B8/$B$4 -> 1.1644697 | C9: ='Whole Numbers'!C8/$C$4 -> 0.42593928
A10: AFFO (Core FFO less recurring capex) per share | B10: ='Whole Numbers'!B9/$B$4 -> 10.07699 | C10: ='Whole Numbers'!C9/$C$4 -> 2.4368002
A11: Interest expense, net per share | B11: ='Whole Numbers'!B10/$B$4 -> 1.8146577 | C11: ='Whole Numbers'!C10/$C$4 -> 0.49402555
A12: CFO (discrete summed) per share | B12: ='Whole Numbers'!B11/$B$4 -> 11.700254 | C12: ='Whole Numbers'!C11/$C$4 -> 2.5673465
A13: Dividends declared, total per share | B13: ='Whole Numbers'!B12/$B$4 -> 6.9572791 | C13: ='Whole Numbers'!C12/$C$4 -> 1.7852604

Sheet Whole Numbers
A1: AVB: Whole-Company Figures ($000s) - FY2025 (twelve months) and Q2 2026 (three months), as filed; periods NOT length-matched
A3: Metric | B3: FY2025 | C3: Q2 2026
A4: NOI | B4: =('Quarterly Data'!AL23+'Quarterly Data'!AM23+'Quarterly Data'!AN23+'Quarterly Data'!AO23) -> 2044385 | C4: ='Quarterly Data'!AQ23 -> 529244
A5: EBITDAre (published) | B5: =('Quarterly Data'!AL35+'Quarterly Data'!AM35+'Quarterly Data'!AN35+'Quarterly Data'!AO35) -> 1918547 | C5: ='Quarterly Data'!AQ35 -> 465845
A6: FFO attributable to common | B6: =('Quarterly Data'!AL26+'Quarterly Data'!AM26+'Quarterly Data'!AN26+'Quarterly Data'!AO26) -> 1627863 | C6: ='Quarterly Data'!AQ26 -> 387550
A7: Core FFO attributable to common | B7: =('Quarterly Data'!AL27+'Quarterly Data'!AM27+'Quarterly Data'!AN27+'Quarterly Data'!AO27) -> 1605577 | C7: ='Quarterly Data'!AQ27 -> 406036
A8: Recurring capex (Asset Preservation, discrete summed) | B8: =('Quarterly Data'!AL44+'Quarterly Data'!AM44+'Quarterly Data'!AN44+'Quarterly Data'!AO44) -> 166317 | C8: ='Quarterly Data'!AQ44 -> 60413
A9: AFFO (Core FFO less recurring capex) | B9: =('Quarterly Data'!AL45+'Quarterly Data'!AM45+'Quarterly Data'!AN45+'Quarterly Data'!AO45) -> 1439260 | C9: ='Quarterly Data'!AQ45 -> 345623
A10: Interest expense, net | B10: =('Quarterly Data'!AL10+'Quarterly Data'!AM10+'Quarterly Data'!AN10+'Quarterly Data'!AO10) -> 259181 | C10: ='Quarterly Data'!AQ10 -> 70070
A11: CFO (discrete summed) | B11: =('Quarterly Data'!AL48+'Quarterly Data'!AM48+'Quarterly Data'!AN48+'Quarterly Data'!AO48) -> 1671105 | C11: ='Quarterly Data'!AQ48 -> 364139
A12: Dividends declared, total | B12: =('Quarterly Data'!AL77+'Quarterly Data'!AM77+'Quarterly Data'!AN77+'Quarterly Data'!AO77) -> 993683 | C12: ='Quarterly Data'!AQ77 -> 253212
A14: Total debt, carrying (12/31/2025 | 6/30/2026) | B14: ='Quarterly Data'!AO60 -> 9328552 | C14: ='Quarterly Data'!AQ60 -> 9024780
A15: Equity market cap (12/31/2025 | 6/30/2026) | B15: ='Quarterly Data'!AO56 -> 25590212 | C15: ='Quarterly Data'!AQ56 -> 26955428
A16: TEV (12/31/2025 | 6/30/2026) | B16: ='Quarterly Data'!AO63 -> 34918764 | C16: ='Quarterly Data'!AQ63 -> 35980208
A17: Dev & land value (12/31/2025 | 6/30/2026) | B17: ='Quarterly Data'!AO68 -> 1582546 | C17: ='Quarterly Data'!AQ68 -> 1770506
A18: Stabilized market cap (12/31/2025 | 6/30/2026) | B18: ='Quarterly Data'!AO72 -> 24007666 | C18: ='Quarterly Data'!AQ72 -> 25184922
A19: Stabilized TEV (12/31/2025 | 6/30/2026) | B19: ='Quarterly Data'!AO73 -> 33336218 | C19: ='Quarterly Data'!AQ73 -> 34209702
A20: Shares + units EOP (000s) (12/31/2025 | 6/30/2026) | B20: ='Quarterly Data'!AO54 -> 141140.65 | C20: ='Quarterly Data'!AQ54 -> 142855.62
A21: Weighted avg diluted shares (000s, Q4/Q2) (12/31/2025 | 6/30/2026) | B21: ='Quarterly Data'!AO51 -> 141991.26 | C21: ='Quarterly Data'!AQ51 -> 141834.77
A22: Price per share EOY/EOQ ($) (12/31/2025 | 6/30/2026) | B22: ='Quarterly Data'!AO55 -> 181.31 | C22: ='Quarterly Data'!AQ55 -> 188.69

Sheet Quarterly
A1: AVB: Quarterly Results Per Share, Q1 2016 - Q2 2026
A2: Per share, $. Discrete quarters, not annualized, except the italic ratio rows: quarter x4 over quarter-end capitalization (AVB precedent: Net Debt-to-Core EBITDAre annualization). Green = link to Quarterly Data.
B4: Q1 16 | C4: Q2 16 | D4: Q3 16 | E4: Q4 16 | F4: Q1 17 | G4: Q2 17 | H4: Q3 17 | I4: Q4 17 | J4: Q1 18 | K4: Q2 18 | L4: Q3 18 | M4: Q4 18 | N4: Q1 19 | O4: Q2 19 | P4: Q3 19 | Q4: Q4 19 | R4: Q1 20 | S4: Q2 20 | T4: Q3 20 | U4: Q4 20 | V4: Q1 21 | W4: Q2 21 | X4: Q3 21 | Y4: Q4 21 | Z4: Q1 22 | AA4: Q2 22 | AB4: Q3 22 | AC4: Q4 22 | AD4: Q1 23 | AE4: Q2 23 | AF4: Q3 23 | AG4: Q4 23 | AH4: Q1 24 | AI4: Q2 24 | AJ4: Q3 24 | AK4: Q4 24 | AL4: Q1 25 | AM4: Q2 25 | AN4: Q3 25 | AO4: Q4 25 | AP4: Q1 26 | AQ4: Q2 26
A5: Capitalization at quarter end (quarter-end closing price; every price denominator in this workbook is a QE/YE close)
A6: Share price at quarter end ($) | B6: ='Quarterly Data'!B55 -> 190.2 | C6: ='Quarterly Data'!C55 -> 180.39 | D6: ='Quarterly Data'!D55 -> 177.84 | E6: ='Quarterly Data'!E55 -> 177.15 | F6: ='Quarterly Data'!F55 -> 183.6 | G6: ='Quarterly Data'!G55 -> 192.17 | H6: ='Quarterly Data'!H55 -> 178.42 | I6: ='Quarterly Data'!I55 -> 178.41 | ... AQ6: ='Quarterly Data'!AQ55 -> 188.69
A7: Equity market cap ($M) | B7: ='Quarterly Data'!B56/1000 -> 26089.659 | C7: ='Quarterly Data'!C56/1000 -> 24771.161 | D7: ='Quarterly Data'!D56/1000 -> 24423.173 | E7: ='Quarterly Data'!E56/1000 -> 24329.498 | F7: ='Quarterly Data'!F56/1000 -> 25298.997 | G7: ='Quarterly Data'!G56/1000 -> 26536.905 | H7: ='Quarterly Data'!H56/1000 -> 24638.802 | I7: ='Quarterly Data'!I56/1000 -> 24638.716 | ... AQ7: ='Quarterly Data'!AQ56/1000 -> 26955.428
A8: Equity market cap per share ($) | B8: ='Quarterly Data'!B56/'Quarterly Data'!B54 -> 190.2 | C8: ='Quarterly Data'!C56/'Quarterly Data'!C54 -> 180.39 | D8: ='Quarterly Data'!D56/'Quarterly Data'!D54 -> 177.84 | E8: ='Quarterly Data'!E56/'Quarterly Data'!E54 -> 177.15 | F8: ='Quarterly Data'!F56/'Quarterly Data'!F54 -> 183.6 | G8: ='Quarterly Data'!G56/'Quarterly Data'!G54 -> 192.17 | H8: ='Quarterly Data'!H56/'Quarterly Data'!H54 -> 178.42 | I8: ='Quarterly Data'!I56/'Quarterly Data'!I54 -> 178.41 | ... AQ8: ='Quarterly Data'!AQ56/'Quarterly Data'!AQ54 -> 188.69
A9: TEV ($M) | B9: ='Quarterly Data'!B63/1000 -> 32592.239 | C9: ='Quarterly Data'!C63/1000 -> 31605.152 | D9: ='Quarterly Data'!D63/1000 -> 31239.143 | E9: ='Quarterly Data'!E63/1000 -> 31360.378 | F9: ='Quarterly Data'!F63/1000 -> 32304.726 | G9: ='Quarterly Data'!G63/1000 -> 33528.664 | H9: ='Quarterly Data'!H63/1000 -> 31766.832 | I9: ='Quarterly Data'!I63/1000 -> 31968.186 | ... AQ9: ='Quarterly Data'!AQ63/1000 -> 35980.208
A10: TEV per share ($) | B10: ='Quarterly Data'!B63/'Quarterly Data'!B54 -> 237.6054 | C10: ='Quarterly Data'!C63/'Quarterly Data'!C54 -> 230.15689 | D10: ='Quarterly Data'!D63/'Quarterly Data'!D54 -> 227.47123 | E10: ='Quarterly Data'!E63/'Quarterly Data'!E54 -> 228.34384 | F10: ='Quarterly Data'!F63/'Quarterly Data'!F54 -> 234.44201 | G10: ='Quarterly Data'!G63/'Quarterly Data'!G54 -> 242.80161 | H10: ='Quarterly Data'!H63/'Quarterly Data'!H54 -> 230.03708 | I10: ='Quarterly Data'!I63/'Quarterly Data'!I54 -> 231.48301 | ... AQ10: ='Quarterly Data'!AQ63/'Quarterly Data'!AQ54 -> 251.86413
A12: NOI: net income to NOI (own-vintage discrete quarter)
A13: Net income | B13: ='Quarterly Data'!B5/'Quarterly Data'!B51 -> 1.7314873 | C13: ='Quarterly Data'!C5/'Quarterly Data'!C51 -> 1.4356974 | D13: ='Quarterly Data'!D5/'Quarterly Data'!D51 -> 2.5913884 | E13: ='Quarterly Data'!E5/'Quarterly Data'!E51 -> 1.761087 | F13: ='Quarterly Data'!F5/'Quarterly Data'!F51 -> 1.7143814 | G13: ='Quarterly Data'!G5/'Quarterly Data'!G51 -> 1.1955579 | H13: ='Quarterly Data'!H5/'Quarterly Data'!H51 -> 1.7222478 | I13: ='Quarterly Data'!I5/'Quarterly Data'!I51 -> 1.717851 | ... AQ13: ='Quarterly Data'!AQ5/'Quarterly Data'!AQ51 -> 1.1061674
A14: Add: property management / indirect operating expenses, net | B14: ='Quarterly Data'!B7/'Quarterly Data'!B51 -> 0.12037148 | C14: ='Quarterly Data'!C7/'Quarterly Data'!C51 -> 0.112611 | D14: ='Quarterly Data'!D7/'Quarterly Data'!D51 -> 0.10869419 | E14: ='Quarterly Data'!E7/'Quarterly Data'!E51 -> 0.10502545 | F14: ='Quarterly Data'!F7/'Quarterly Data'!F51 -> 0.11849671 | G14: ='Quarterly Data'!G7/'Quarterly Data'!G51 -> 0.11885811 | H14: ='Quarterly Data'!H7/'Quarterly Data'!H51 -> 0.11389152 | I14: ='Quarterly Data'!I7/'Quarterly Data'!I51 -> 0.12243394 | ... AQ14: ='Quarterly Data'!AQ7/'Quarterly Data'!AQ51 -> 0.27132275
A15: Add: investments and investment management (incl. SIP interest income) | B15: ='Quarterly Data'!B8/'Quarterly Data'!B51 -> 0.0083343618 | C15: ='Quarterly Data'!C8/'Quarterly Data'!C51 -> 0.0086875705 | D15: ='Quarterly Data'!D8/'Quarterly Data'!D51 -> 0.0087633143 | E15: ='Quarterly Data'!E8/'Quarterly Data'!E51 -> 0.0092859865 | F15: ='Quarterly Data'!F8/'Quarterly Data'!F51 -> 0.0096050903 | G15: ='Quarterly Data'!G8/'Quarterly Data'!G51 -> 0.010530266 | H15: ='Quarterly Data'!H8/'Quarterly Data'!H51 -> 0.010852665 | I15: ='Quarterly Data'!I8/'Quarterly Data'!I51 -> 0.012000349 | ... AQ15: ='Quarterly Data'!AQ8/'Quarterly Data'!AQ51 -> -0.054316724
A16: Add: expensed transaction, development and other pursuit costs, net | B16: ='Quarterly Data'!B9/'Quarterly Data'!B51 -> 0.025199616 | C16: ='Quarterly Data'!C9/'Quarterly Data'!C51 -> 0.010448368 | D16: ='Quarterly Data'!D9/'Quarterly Data'!D51 -> 0.027664438 | E16: ='Quarterly Data'!E9/'Quarterly Data'!E51 -> 0.0088714985 | F16: ='Quarterly Data'!F9/'Quarterly Data'!F51 -> 0.0052933427 | G16: ='Quarterly Data'!G9/'Quarterly Data'!G51 -> 0.0041252587 | H16: ='Quarterly Data'!H9/'Quarterly Data'!H51 -> 0.0057046985 | I16: ='Quarterly Data'!I9/'Quarterly Data'!I51 -> 0.0046945307 | ... AQ16: ='Quarterly Data'!AQ9/'Quarterly Data'!AQ51 -> 0.14083994
A17: Add: interest expense, net | B17: ='Quarterly Data'!B10/'Quarterly Data'!B51 -> 0.31597786 | C17: ='Quarterly Data'!C10/'Quarterly Data'!C51 -> 0.33892439 | D17: ='Quarterly Data'!D10/'Quarterly Data'!D51 -> 0.34813993 | E17: ='Quarterly Data'!E10/'Quarterly Data'!E51 -> 0.36102636 | F17: ='Quarterly Data'!F10/'Quarterly Data'!F51 -> 0.35842765 | G17: ='Quarterly Data'!G10/'Quarterly Data'!G51 -> 0.36260301 | H17: ='Quarterly Data'!H10/'Quarterly Data'!H51 -> 0.34518126 | I17: ='Quarterly Data'!I10/'Quarterly Data'!I51 -> 0.37992425 | ... AQ17: ='Quarterly Data'!AQ10/'Quarterly Data'!AQ51 -> 0.49402555
A18: Add: loss (gain) on extinguishment of debt, net | B18: ='Quarterly Data'!B11/'Quarterly Data'!B51 -> 0 | C18: ='Quarterly Data'!C11/'Quarterly Data'!C51 -> 0.017906291 | D18: ='Quarterly Data'!D11/'Quarterly Data'!D51 -> 0 | E18: ='Quarterly Data'!E11/'Quarterly Data'!E51 -> 0.033551716 | F18: ='Quarterly Data'!F11/'Quarterly Data'!F51 -> 0 | G18: ='Quarterly Data'!G11/'Quarterly Data'!G51 -> 0.17486755 | H18: ='Quarterly Data'!H11/'Quarterly Data'!H51 -> 0 | I18: ='Quarterly Data'!I11/'Quarterly Data'!I51 -> 0.0094758632 | ... AQ18: ='Quarterly Data'!AQ11/'Quarterly Data'!AQ51 -> 0
A19: Add: general and administrative expense | B19: ='Quarterly Data'!B12/'Quarterly Data'!B51 -> 0.083008788 | C19: ='Quarterly Data'!C12/'Quarterly Data'!C51 -> 0.087392303 | D19: ='Quarterly Data'!D12/'Quarterly Data'!D51 -> 0.086745902 | E19: ='Quarterly Data'!E12/'Quarterly Data'!E51 -> 0.075829497 | F19: ='Quarterly Data'!F12/'Quarterly Data'!F51 -> 0.09616724 | G19: ='Quarterly Data'!G12/'Quarterly Data'!G51 -> 0.10135833 | H19: ='Quarterly Data'!H12/'Quarterly Data'!H51 -> 0.084442553 | I19: ='Quarterly Data'!I12/'Quarterly Data'!I51 -> 0.086107386 | ... AQ19: ='Quarterly Data'!AQ12/'Quarterly Data'!AQ51 -> 0.19132826
A20: Add/Less: joint venture / unconsolidated investments (income) loss | B20: ='Quarterly Data'!B13/'Quarterly Data'!B51 -> -0.20358408 | C20: ='Quarterly Data'!C13/'Quarterly Data'!C51 -> -0.19755128 | D20: ='Quarterly Data'!D13/'Quarterly Data'!D51 -> 0.0024871813 | E20: ='Quarterly Data'!E13/'Quarterly Data'!E51 -> -0.074055197 | F20: ='Quarterly Data'!F13/'Quarterly Data'!F51 -> -0.12122337 | G20: ='Quarterly Data'!G13/'Quarterly Data'!G51 -> -0.0082939413 | H20: ='Quarterly Data'!H13/'Quarterly Data'!H51 -> -0.38008187 | I20: ='Quarterly Data'!I13/'Quarterly Data'!I51 -> -0.002589587 | ... AQ20: ='Quarterly Data'!AQ13/'Quarterly Data'!AQ51 -> -0.053914848
A21: Add: depreciation expense | B21: ='Quarterly Data'!B14/'Quarterly Data'!B51 -> 0.92599491 | C21: ='Quarterly Data'!C14/'Quarterly Data'!C51 -> 0.96384739 | D21: ='Quarterly Data'!D14/'Quarterly Data'!D51 -> 0.95799388 | E21: ='Quarterly Data'!E14/'Quarterly Data'!E51 -> 1.0181862 | F21: ='Quarterly Data'!F14/'Quarterly Data'!F51 -> 1.0224659 | G21: ='Quarterly Data'!G14/'Quarterly Data'!G51 -> 1.0236359 | H21: ='Quarterly Data'!H14/'Quarterly Data'!H51 -> 1.0483197 | I21: ='Quarterly Data'!I14/'Quarterly Data'!I51 -> 1.1363802 | ... AQ21: ='Quarterly Data'!AQ14/'Quarterly Data'!AQ51 -> 1.6425803
A22: Less: gains on sales of communities and other real estate, net | B22: =('Quarterly Data'!B15+'Quarterly Data'!B16)/'Quarterly Data'!B51 -> -0.37435479 | C22: =('Quarterly Data'!C15+'Quarterly Data'!C16)/'Quarterly Data'!C51 -> -0.2265244 | D22: =('Quarterly Data'!D15+'Quarterly Data'!D16)/'Quarterly Data'!D51 -> -1.5486049 | E22: =('Quarterly Data'!E15+'Quarterly Data'!E16)/'Quarterly Data'!E51 -> -0.64968456 | F22: =('Quarterly Data'!F15+'Quarterly Data'!F16)/'Quarterly Data'!F51 -> -0.642145 | G22: =('Quarterly Data'!G15+'Quarterly Data'!G16)/'Quarterly Data'!G51 -> -0.31892593 | H22: =('Quarterly Data'!H15+'Quarterly Data'!H16)/'Quarterly Data'!H51 -> -0.19968614 | I22: =('Quarterly Data'!I15+'Quarterly Data'!I16)/'Quarterly Data'!I51 -> -0.59091772 | ... AQ22: =('Quarterly Data'!AQ15+'Quarterly Data'!AQ16)/'Quarterly Data'!AQ51 -> 0.0008108026
A23: Add/Less: casualty and impairment loss (gain), net | B23: ='Quarterly Data'!B17/'Quarterly Data'!B51 -> -0.016028179 | C23: ='Quarterly Data'!C17/'Quarterly Data'!C51 -> -0.01260207 | D23: ='Quarterly Data'!D17/'Quarterly Data'!D51 -> 0 | E23: ='Quarterly Data'!E17/'Quarterly Data'!E51 -> 0 | F23: ='Quarterly Data'!F17/'Quarterly Data'!F51 -> 0.084984327 | G23: ='Quarterly Data'!G17/'Quarterly Data'!G51 -> 0 | H23: ='Quarterly Data'!H17/'Quarterly Data'!H51 -> 0 | I23: ='Quarterly Data'!I17/'Quarterly Data'!I51 -> -0.039335682 | ... AQ23: ='Quarterly Data'!AQ17/'Quarterly Data'!AQ51 -> 0
A24: Add: income tax expense (benefit) | B24: ='Quarterly Data'!B18/'Quarterly Data'!B51 -> 0.00026931999 | C24: ='Quarterly Data'!C18/'Quarterly Data'!C51 -> 0.0002619368 | D24: ='Quarterly Data'!D18/'Quarterly Data'!D51 -> 0.00015999412 | E24: ='Quarterly Data'!E18/'Quarterly Data'!E51 -> 0.0015270612 | F24: ='Quarterly Data'!F18/'Quarterly Data'!F51 -> 0 | G24: ='Quarterly Data'!G18/'Quarterly Data'!G51 -> 0 | H24: ='Quarterly Data'!H18/'Quarterly Data'!H51 -> 0 | I24: ='Quarterly Data'!I18/'Quarterly Data'!I51 -> 0 | ... AQ24: ='Quarterly Data'!AQ18/'Quarterly Data'!AQ51 -> 0.00049353202
A25: Add/Less: condo activity, sold-asset NOI and other items | B25: =('Quarterly Data'!B19+'Quarterly Data'!B20+'Quarterly Data'!B21)/'Quarterly Data'!B51 -> -0.0052481003 | C25: =('Quarterly Data'!C19+'Quarterly Data'!C20+'Quarterly Data'!C21)/'Quarterly Data'!C51 -> -0.0086730185 | D25: =('Quarterly Data'!D19+'Quarterly Data'!D20+'Quarterly Data'!D21)/'Quarterly Data'!D51 -> -0.040180341 | E25: =('Quarterly Data'!E19+'Quarterly Data'!E20+'Quarterly Data'!E21)/'Quarterly Data'!E51 -> -0.0012143773 | F25: =('Quarterly Data'!F19+'Quarterly Data'!F20+'Quarterly Data'!F21)/'Quarterly Data'!F51 -> -0.010084981 | G25: =('Quarterly Data'!G19+'Quarterly Data'!G20+'Quarterly Data'!G21)/'Quarterly Data'!G51 -> -0.0075123133 | H25: =('Quarterly Data'!H19+'Quarterly Data'!H20+'Quarterly Data'!H21)/'Quarterly Data'!H51 -> -0.013549563 | I25: =('Quarterly Data'!I19+'Quarterly Data'!I20+'Quarterly Data'!I21)/'Quarterly Data'!I51 -> -0.0099026387 | ... AQ25: =('Quarterly Data'!AQ19+'Quarterly Data'!AQ20+'Quarterly Data'!AQ21)/'Quarterly Data'!AQ51 -> -0.0079247141
A26: NOI (derived; ties to published, Quarterly Data row 24) | B26: ='Quarterly Data'!B22/'Quarterly Data'!B51 -> 2.6114285 | C26: ='Quarterly Data'!C22/'Quarterly Data'!C51 -> 2.5304259 | D26: ='Quarterly Data'!D22/'Quarterly Data'!D51 -> 2.543252 | E26: ='Quarterly Data'!E22/'Quarterly Data'!E51 -> 2.6494367 | F26: ='Quarterly Data'!F22/'Quarterly Data'!F51 -> 2.6363683 | G26: ='Quarterly Data'!G22/'Quarterly Data'!G51 -> 2.6568041 | H26: ='Quarterly Data'!H22/'Quarterly Data'!H51 -> 2.7373226 | I26: ='Quarterly Data'!I22/'Quarterly Data'!I51 -> 2.8261219 | ... AQ26: ='Quarterly Data'!AQ22/'Quarterly Data'!AQ51 -> 3.7314123
A27: Implied cap rate (NOI per share x4 / TEV per share) | B27: =B26*4/B10 -> 0.043962444 | C27: =C26*4/C10 -> 0.043977409 | D27: =D26*4/D10 -> 0.044722174 | E27: =E26*4/E10 -> 0.046411354 | F27: =F26*4/F10 -> 0.044981158 | G27: =G26*4/G10 -> 0.043769135 | H27: =H26*4/H10 -> 0.047597935 | I27: =I26*4/I10 -> 0.048835065 | ... AQ27: =AQ26*4/AQ10 -> 0.059260718
A28: Per-share yield calculation; may differ slightly from the whole-dollar equivalent because flow metrics use weighted average diluted shares while capitalization uses period-end share counts.
A30: FFO, Core FFO, AFFO
A31: Net income attributable to common stockholders | B31: ='Quarterly Data'!B6/'Quarterly Data'!B51 -> 1.7318804 | C31: ='Quarterly Data'!C6/'Quarterly Data'!C51 -> 1.4366069 | D31: ='Quarterly Data'!D6/'Quarterly Data'!D51 -> 2.5918466 | E31: ='Quarterly Data'!E6/'Quarterly Data'!E51 -> 1.7614651 | F31: ='Quarterly Data'!F6/'Quarterly Data'!F51 -> 1.7150649 | G31: ='Quarterly Data'!G6/'Quarterly Data'!G51 -> 1.1957822 | H31: ='Quarterly Data'!H6/'Quarterly Data'!H51 -> 1.722602 | I31: ='Quarterly Data'!I6/'Quarterly Data'!I51 -> 1.7184803 | ... AQ31: ='Quarterly Data'!AQ6/'Quarterly Data'!AQ51 -> 1.0978972
A32: AVB publishes FFO and Core FFO directly (release Attachment 1); the derivation walk is not rebuilt here. Dollar figures tie to published on the Quarterly Data tab.
A38: FFO (as published) | B38: ='Quarterly Data'!B26/'Quarterly Data'!B51 -> 2.0714856 | C38: ='Quarterly Data'!C26/'Quarterly Data'!C51 -> 1.9905742 | D38: ='Quarterly Data'!D26/'Quarterly Data'!D51 -> 2.105479 | E38: ='Quarterly Data'!E26/'Quarterly Data'!E51 -> 2.0948371 | F38: ='Quarterly Data'!F26/'Quarterly Data'!F51 -> 2.0373335 | G38: ='Quarterly Data'!G26/'Quarterly Data'!G51 -> 1.8983138 | H38: ='Quarterly Data'!H26/'Quarterly Data'!H51 -> 2.3391216 | I38: ='Quarterly Data'!I26/'Quarterly Data'!I51 -> 2.178783 | ... AQ38: ='Quarterly Data'!AQ26/'Quarterly Data'!AQ51 -> 2.7324048
A39: FFO per share x4 / market cap per share | B39: =B38*4/B8 -> 0.043564366 | C39: =C38*4/C8 -> 0.044139346 | D39: =D38*4/D8 -> 0.047356702 | E39: =E38*4/E8 -> 0.047300866 | F39: =F38*4/F8 -> 0.04438635 | G39: =G38*4/G8 -> 0.039513219 | H39: =H38*4/H8 -> 0.052440794 | I39: =I38*4/I8 -> 0.0488489 | ... AQ39: =AQ38*4/AQ8 -> 0.05792368
A40: Per-share yield calculation; may differ slightly from the whole-dollar equivalent because flow metrics use weighted average diluted shares while capitalization uses period-end share counts.
A41: Add/Less: non-core adjustments, net (sign varies) | B41: ='Quarterly Data'!B28/'Quarterly Data'!B51 -> -0.098651184 | C41: ='Quarterly Data'!C28/'Quarterly Data'!C51 -> 0.035463332 | D41: ='Quarterly Data'!D28/'Quarterly Data'!D51 -> -0.03494417 | E41: ='Quarterly Data'!E28/'Quarterly Data'!E51 -> 0.02228055 | F41: ='Quarterly Data'!F28/'Quarterly Data'!F51 -> 0.052169964 | G41: ='Quarterly Data'!G28/'Quarterly Data'!G51 -> 0.18884277 | H41: ='Quarterly Data'!H28/'Quarterly Data'!H51 -> -0.14592894 | I41: ='Quarterly Data'!I28/'Quarterly Data'!I51 -> 0.069969484 | ... AQ41: ='Quarterly Data'!AQ28/'Quarterly Data'!AQ51 -> 0.13033476
A42: Core FFO (as published) | B42: ='Quarterly Data'!B27/'Quarterly Data'!B51 -> 1.9728344 | C42: ='Quarterly Data'!C27/'Quarterly Data'!C51 -> 2.0260375 | D42: ='Quarterly Data'!D27/'Quarterly Data'!D51 -> 2.0705348 | E42: ='Quarterly Data'!E27/'Quarterly Data'!E51 -> 2.1171177 | F42: ='Quarterly Data'!F27/'Quarterly Data'!F51 -> 2.0895034 | G42: ='Quarterly Data'!G27/'Quarterly Data'!G51 -> 2.0871566 | H42: ='Quarterly Data'!H27/'Quarterly Data'!H51 -> 2.1931927 | I42: ='Quarterly Data'!I27/'Quarterly Data'!I51 -> 2.2487525 | ... AQ42: ='Quarterly Data'!AQ27/'Quarterly Data'!AQ51 -> 2.8627395
A43: Core FFO per share x4 / market cap per share | B43: =B42*4/B8 -> 0.041489683 | C43: =C42*4/C8 -> 0.044925716 | D43: =D42*4/D8 -> 0.046570733 | E43: =E42*4/E8 -> 0.047803955 | F43: =F42*4/F8 -> 0.04552295 | G43: =G42*4/G8 -> 0.043443963 | H43: =H42*4/H8 -> 0.049169211 | I43: =I42*4/I8 -> 0.050417634 | ... AQ43: =AQ42*4/AQ8 -> 0.060686619
A44: Per-share yield calculation; may differ slightly from the whole-dollar equivalent because flow metrics use weighted average diluted shares while capitalization uses period-end share counts.
A45: Asset Preservation capex, discrete quarter (2018+) | J45: ='Quarterly Data'!J41/'Quarterly Data'!J51 -> 0.10405118 | K45: ='Quarterly Data'!K41/'Quarterly Data'!K51 -> 0.12142675 | L45: ='Quarterly Data'!L41/'Quarterly Data'!L51 -> 0.12814204 | M45: ='Quarterly Data'!M41/'Quarterly Data'!M51 -> 0.14548914 | N45: ='Quarterly Data'!N41/'Quarterly Data'!N51 -> 0.11191208 | O45: ='Quarterly Data'!O41/'Quarterly Data'!O51 -> 0.12836433 | P45: ='Quarterly Data'!P41/'Quarterly Data'!P51 -> 0.1976151 | Q45: ='Quarterly Data'!Q41/'Quarterly Data'!Q51 -> 0.20139599 | ... AQ45: ='Quarterly Data'!AQ41/'Quarterly Data'!AQ51 -> 0.42593928
A46: Capital expenditures, existing real estate, discrete quarter (10-Q) | B46: ='Quarterly Data'!B43/'Quarterly Data'!B51 -> 0.084566477 | C46: ='Quarterly Data'!C43/'Quarterly Data'!C51 -> 0.095155819 | D46: ='Quarterly Data'!D43/'Quarterly Data'!D51 -> 0.13326056 | E46: ='Quarterly Data'!E43/'Quarterly Data'!E51 -> 0.17416497 | F46: ='Quarterly Data'!F43/'Quarterly Data'!F51 -> 0.058277668 | G46: ='Quarterly Data'!G43/'Quarterly Data'!G51 -> 0.10421706 | H46: ='Quarterly Data'!H43/'Quarterly Data'!H51 -> 0.14022424 | I46: ='Quarterly Data'!I43/'Quarterly Data'!I51 -> 0.16906097 | ... AQ46: ='Quarterly Data'!AQ43/'Quarterly Data'!AQ51 -> 0.52740242
A47: 2016-2017: no quarterly Asset Preservation disclosure exists; recurring capex uses the cash-flow line above as a flagged proxy (Option A, Chip 2026-08-17).
A48: Recurring capex (Option A) | B48: ='Quarterly Data'!B44/'Quarterly Data'!B51 -> 0.084566477 | C48: ='Quarterly Data'!C44/'Quarterly Data'!C51 -> 0.095155819 | D48: ='Quarterly Data'!D44/'Quarterly Data'!D51 -> 0.13326056 | E48: ='Quarterly Data'!E44/'Quarterly Data'!E51 -> 0.17416497 | F48: ='Quarterly Data'!F44/'Quarterly Data'!F51 -> 0.058277668 | G48: ='Quarterly Data'!G44/'Quarterly Data'!G51 -> 0.10421706 | H48: ='Quarterly Data'!H44/'Quarterly Data'!H51 -> 0.14022424 | I48: ='Quarterly Data'!I44/'Quarterly Data'!I51 -> 0.16906097 | ... AQ48: ='Quarterly Data'!AQ44/'Quarterly Data'!AQ51 -> 0.42593928
...

Sheet Quarterly Stabilized
A1: AVB: Quarterly Results Per Stabilized Share, Q1 2016 - Q2 2026
A2: Identical to the Quarterly tab EXCEPT denominators are stabilized per the CRE42 method: shares and capitalization net of dev & land value (Quarterly Data rows 66-73).
B4: Q1 16 | C4: Q2 16 | D4: Q3 16 | E4: Q4 16 | F4: Q1 17 | G4: Q2 17 | H4: Q3 17 | I4: Q4 17 | J4: Q1 18 | K4: Q2 18 | L4: Q3 18 | M4: Q4 18 | N4: Q1 19 | O4: Q2 19 | P4: Q3 19 | Q4: Q4 19 | R4: Q1 20 | S4: Q2 20 | T4: Q3 20 | U4: Q4 20 | V4: Q1 21 | W4: Q2 21 | X4: Q3 21 | Y4: Q4 21 | Z4: Q1 22 | AA4: Q2 22 | AB4: Q3 22 | AC4: Q4 22 | AD4: Q1 23 | AE4: Q2 23 | AF4: Q3 23 | AG4: Q4 23 | AH4: Q1 24 | AI4: Q2 24 | AJ4: Q3 24 | AK4: Q4 24 | AL4: Q1 25 | AM4: Q2 25 | AN4: Q3 25 | AO4: Q4 25 | AP4: Q1 26 | AQ4: Q2 26
A5: Capitalization at quarter end (quarter-end closing price; every price denominator in this workbook is a QE/YE close)
A6: Share price at quarter end ($) | B6: ='Quarterly Data'!B55 -> 190.2 | C6: ='Quarterly Data'!C55 -> 180.39 | D6: ='Quarterly Data'!D55 -> 177.84 | E6: ='Quarterly Data'!E55 -> 177.15 | F6: ='Quarterly Data'!F55 -> 183.6 | G6: ='Quarterly Data'!G55 -> 192.17 | H6: ='Quarterly Data'!H55 -> 178.42 | I6: ='Quarterly Data'!I55 -> 178.41 | ... AQ6: ='Quarterly Data'!AQ55 -> 188.69
A7: Stabilized Equity market cap ($M) | B7: ='Quarterly Data'!B72/1000 -> 24025.455 | C7: ='Quarterly Data'!C72/1000 -> 22720.723 | D7: ='Quarterly Data'!D72/1000 -> 22464.276 | E7: ='Quarterly Data'!E72/1000 -> 22362.943 | F7: ='Quarterly Data'!F72/1000 -> 23403.909 | G7: ='Quarterly Data'!G72/1000 -> 24714.522 | H7: ='Quarterly Data'!H72/1000 -> 22993.582 | I7: ='Quarterly Data'!I72/1000 -> 23264.052 | ... AQ7: ='Quarterly Data'!AQ72/1000 -> 25184.922
A8: Stabilized Equity market cap per stabilized share ($) | B8: ='Quarterly Data'!B72/'Quarterly Data'!B71 -> 190.2 | C8: ='Quarterly Data'!C72/'Quarterly Data'!C71 -> 180.39 | D8: ='Quarterly Data'!D72/'Quarterly Data'!D71 -> 177.84 | E8: ='Quarterly Data'!E72/'Quarterly Data'!E71 -> 177.15 | F8: ='Quarterly Data'!F72/'Quarterly Data'!F71 -> 183.6 | G8: ='Quarterly Data'!G72/'Quarterly Data'!G71 -> 192.17 | H8: ='Quarterly Data'!H72/'Quarterly Data'!H71 -> 178.42 | I8: ='Quarterly Data'!I72/'Quarterly Data'!I71 -> 178.41 | ... AQ8: ='Quarterly Data'!AQ72/'Quarterly Data'!AQ71 -> 188.69
A9: Stabilized TEV ($M) | B9: ='Quarterly Data'!B73/1000 -> 30528.035 | C9: ='Quarterly Data'!C73/1000 -> 29554.714 | D9: ='Quarterly Data'!D73/1000 -> 29280.246 | E9: ='Quarterly Data'!E73/1000 -> 29393.823 | F9: ='Quarterly Data'!F73/1000 -> 30409.638 | G9: ='Quarterly Data'!G73/1000 -> 31706.281 | H9: ='Quarterly Data'!H73/1000 -> 30121.612 | I9: ='Quarterly Data'!I73/1000 -> 30593.522 | ... AQ9: ='Quarterly Data'!AQ73/1000 -> 34209.702
A10: Stabilized TEV per stabilized share ($) | B10: ='Quarterly Data'!B73/'Quarterly Data'!B71 -> 241.67835 | C10: ='Quarterly Data'!C73/'Quarterly Data'!C71 -> 234.64812 | D10: ='Quarterly Data'!D73/'Quarterly Data'!D71 -> 231.7991 | E10: ='Quarterly Data'!E73/'Quarterly Data'!E71 -> 232.84573 | F10: ='Quarterly Data'!F73/'Quarterly Data'!F71 -> 238.55885 | G10: ='Quarterly Data'!G73/'Quarterly Data'!G71 -> 246.53505 | H10: ='Quarterly Data'!H73/'Quarterly Data'!H71 -> 233.73035 | I10: ='Quarterly Data'!I73/'Quarterly Data'!I71 -> 234.61907 | ... AQ10: ='Quarterly Data'!AQ73/'Quarterly Data'!AQ71 -> 256.30529
A12: NOI: net income to NOI (own-vintage discrete quarter)
A13: Net income | B13: ='Quarterly Data'!B5/'Quarterly Data'!B70 -> 1.8800012 | C13: ='Quarterly Data'!C5/'Quarterly Data'!C70 -> 1.5651414 | D13: ='Quarterly Data'!D5/'Quarterly Data'!D70 -> 2.8170502 | E13: ='Quarterly Data'!E5/'Quarterly Data'!E70 -> 1.9157324 | F13: ='Quarterly Data'!F5/'Quarterly Data'!F70 -> 1.8534871 | G13: ='Quarterly Data'!G5/'Quarterly Data'!G70 -> 1.2836587 | H13: ='Quarterly Data'!H5/'Quarterly Data'!H70 -> 1.8452738 | I13: ='Quarterly Data'!I5/'Quarterly Data'!I70 -> 1.819246 | ... AQ13: ='Quarterly Data'!AQ5/'Quarterly Data'!AQ70 -> 1.1845306
A14: Add: property management / indirect operating expenses, net | B14: ='Quarterly Data'!B7/'Quarterly Data'!B70 -> 0.13069603 | C14: ='Quarterly Data'!C7/'Quarterly Data'!C70 -> 0.12276412 | D14: ='Quarterly Data'!D7/'Quarterly Data'!D70 -> 0.11815943 | E14: ='Quarterly Data'!E7/'Quarterly Data'!E70 -> 0.114248 | F14: ='Quarterly Data'!F7/'Quarterly Data'!F70 -> 0.12811159 | G14: ='Quarterly Data'!G7/'Quarterly Data'!G70 -> 0.12761678 | H14: ='Quarterly Data'!H7/'Quarterly Data'!H70 -> 0.12202718 | I14: ='Quarterly Data'!I7/'Quarterly Data'!I70 -> 0.12966052 | ... AQ14: ='Quarterly Data'!AQ7/'Quarterly Data'!AQ70 -> 0.29054382
A15: Add: investments and investment management (incl. SIP interest income) | B15: ='Quarterly Data'!B8/'Quarterly Data'!B70 -> 0.0090492204 | C15: ='Quarterly Data'!C8/'Quarterly Data'!C70 -> 0.0094708508 | D15: ='Quarterly Data'!D8/'Quarterly Data'!D70 -> 0.0095264362 | E15: ='Quarterly Data'!E8/'Quarterly Data'!E70 -> 0.010101412 | F15: ='Quarterly Data'!F8/'Quarterly Data'!F70 -> 0.010384452 | G15: ='Quarterly Data'!G8/'Quarterly Data'!G70 -> 0.011306242 | H15: ='Quarterly Data'!H8/'Quarterly Data'!H70 -> 0.011627907 | I15: ='Quarterly Data'!I8/'Quarterly Data'!I70 -> 0.012708661 | ... AQ15: ='Quarterly Data'!AQ8/'Quarterly Data'!AQ70 -> -0.058164633
A16: Add: expensed transaction, development and other pursuit costs, net | B16: ='Quarterly Data'!B9/'Quarterly Data'!B70 -> 0.027361049 | C16: ='Quarterly Data'!C9/'Quarterly Data'!C70 -> 0.011390404 | D16: ='Quarterly Data'!D9/'Quarterly Data'!D70 -> 0.030073497 | E16: ='Quarterly Data'!E9/'Quarterly Data'!E70 -> 0.0096505266 | F16: ='Quarterly Data'!F9/'Quarterly Data'!F70 -> 0.005722847 | G16: ='Quarterly Data'!G9/'Quarterly Data'!G70 -> 0.0044292496 | H16: ='Quarterly Data'!H9/'Quarterly Data'!H70 -> 0.0061122045 | I16: ='Quarterly Data'!I9/'Quarterly Data'!I70 -> 0.004971622 | ... AQ16: ='Quarterly Data'!AQ9/'Quarterly Data'!AQ70 -> 0.15081733
A17: Add: interest expense, net | B17: ='Quarterly Data'!B10/'Quarterly Data'!B70 -> 0.34308005 | C17: ='Quarterly Data'!C10/'Quarterly Data'!C70 -> 0.36948216 | D17: ='Quarterly Data'!D10/'Quarterly Data'!D70 -> 0.37845646 | E17: ='Quarterly Data'!E10/'Quarterly Data'!E70 -> 0.39272897 | F17: ='Quarterly Data'!F10/'Quarterly Data'!F70 -> 0.38751064 | G17: ='Quarterly Data'!G10/'Quarterly Data'!G70 -> 0.38932327 | H17: ='Quarterly Data'!H10/'Quarterly Data'!H70 -> 0.36983873 | I17: ='Quarterly Data'!I10/'Quarterly Data'!I70 -> 0.402349 | ... AQ17: ='Quarterly Data'!AQ10/'Quarterly Data'!AQ70 -> 0.52902334
A18: Add: loss (gain) on extinguishment of debt, net | B18: ='Quarterly Data'!B11/'Quarterly Data'!B70 -> 0 | C18: ='Quarterly Data'!C11/'Quarterly Data'!C70 -> 0.01952074 | D18: ='Quarterly Data'!D11/'Quarterly Data'!D70 -> 0 | E18: ='Quarterly Data'!E11/'Quarterly Data'!E70 -> 0.036497975 | F18: ='Quarterly Data'!F11/'Quarterly Data'!F70 -> 0 | G18: ='Quarterly Data'!G11/'Quarterly Data'!G70 -> 0.18775356 | H18: ='Quarterly Data'!H11/'Quarterly Data'!H70 -> 0 | I18: ='Quarterly Data'!I11/'Quarterly Data'!I70 -> 0.010035169 | ... AQ18: ='Quarterly Data'!AQ11/'Quarterly Data'!AQ70 -> 0
A19: Add: general and administrative expense | B19: ='Quarterly Data'!B12/'Quarterly Data'!B70 -> 0.090128655 | C19: ='Quarterly Data'!C12/'Quarterly Data'!C70 -> 0.095271683 | D19: ='Quarterly Data'!D12/'Quarterly Data'!D70 -> 0.09429986 | E19: ='Quarterly Data'!E12/'Quarterly Data'!E70 -> 0.082488271 | F19: ='Quarterly Data'!F12/'Quarterly Data'!F70 -> 0.10397029 | G19: ='Quarterly Data'!G12/'Quarterly Data'!G70 -> 0.10882744 | H19: ='Quarterly Data'!H12/'Quarterly Data'!H70 -> 0.090474571 | I19: ='Quarterly Data'!I12/'Quarterly Data'!I70 -> 0.091189813 | ... AQ19: ='Quarterly Data'!AQ12/'Quarterly Data'!AQ70 -> 0.20488235
A20: Add/Less: joint venture / unconsolidated investments (income) loss | B20: ='Quarterly Data'!B13/'Quarterly Data'!B70 -> -0.22104598 | C20: ='Quarterly Data'!C13/'Quarterly Data'!C70 -> -0.21536271 | D20: ='Quarterly Data'!D13/'Quarterly Data'!D70 -> 0.0027037686 | E20: ='Quarterly Data'!E13/'Quarterly Data'!E70 -> -0.080558166 | F20: ='Quarterly Data'!F13/'Quarterly Data'!F70 -> -0.13105948 | G20: ='Quarterly Data'!G13/'Quarterly Data'!G70 -> -0.0089051229 | H20: ='Quarterly Data'!H13/'Quarterly Data'!H70 -> -0.4072324 | I20: ='Quarterly Data'!I13/'Quarterly Data'!I70 -> -0.0027424356 | ... AQ20: ='Quarterly Data'!AQ13/'Quarterly Data'!AQ70 -> -0.057734287
A21: Add: depreciation expense | B21: ='Quarterly Data'!B14/'Quarterly Data'!B70 -> 1.0054198 | C21: ='Quarterly Data'!C14/'Quarterly Data'!C70 -> 1.0507489 | D21: ='Quarterly Data'!D14/'Quarterly Data'!D70 -> 1.0414174 | E21: ='Quarterly Data'!E14/'Quarterly Data'!E70 -> 1.1075957 | F21: ='Quarterly Data'!F14/'Quarterly Data'!F70 -> 1.1054292 | G21: ='Quarterly Data'!G14/'Quarterly Data'!G70 -> 1.0990678 | H21: ='Quarterly Data'!H14/'Quarterly Data'!H70 -> 1.1232047 | I21: ='Quarterly Data'!I14/'Quarterly Data'!I70 -> 1.2034543 | ... AQ21: ='Quarterly Data'!AQ14/'Quarterly Data'!AQ70 -> 1.7589441
A22: Less: gains on sales of communities and other real estate, net | B22: =('Quarterly Data'!B15+'Quarterly Data'!B16)/'Quarterly Data'!B70 -> -0.40646411 | C22: =('Quarterly Data'!C15+'Quarterly Data'!C16)/'Quarterly Data'!C70 -> -0.24694807 | D22: =('Quarterly Data'!D15+'Quarterly Data'!D16)/'Quarterly Data'!D70 -> -1.6834596 | E22: =('Quarterly Data'!E15+'Quarterly Data'!E16)/'Quarterly Data'!E70 -> -0.70673495 | F22: =('Quarterly Data'!F15+'Quarterly Data'!F16)/'Quarterly Data'!F70 -> -0.69424894 | G22: =('Quarterly Data'!G15+'Quarterly Data'!G16)/'Quarterly Data'!G70 -> -0.34242762 | H22: =('Quarterly Data'!H15+'Quarterly Data'!H16)/'Quarterly Data'!H70 -> -0.2139504 | I22: =('Quarterly Data'!I15+'Quarterly Data'!I16)/'Quarterly Data'!I70 -> -0.62579622 | ... AQ22: =('Quarterly Data'!AQ15+'Quarterly Data'!AQ16)/'Quarterly Data'!AQ70 -> 0.00086824154
A23: Add/Less: casualty and impairment loss (gain), net | B23: ='Quarterly Data'!B17/'Quarterly Data'!B70 -> -0.017402955 | C23: ='Quarterly Data'!C17/'Quarterly Data'!C70 -> -0.013738286 | D23: ='Quarterly Data'!D17/'Quarterly Data'!D70 -> 0 | E23: ='Quarterly Data'!E17/'Quarterly Data'!E70 -> 0 | F23: ='Quarterly Data'!F17/'Quarterly Data'!F70 -> 0.091879994 | G23: ='Quarterly Data'!G17/'Quarterly Data'!G70 -> 0 | H23: ='Quarterly Data'!H17/'Quarterly Data'!H70 -> 0 | I23: ='Quarterly Data'!I17/'Quarterly Data'!I70 -> -0.041657443 | ... AQ23: ='Quarterly Data'!AQ17/'Quarterly Data'!AQ70 -> 0
A24: Add: income tax expense (benefit) | B24: ='Quarterly Data'!B18/'Quarterly Data'!B70 -> 0.00029242022 | C24: ='Quarterly Data'!C18/'Quarterly Data'!C70 -> 0.00028555329 | D24: ='Quarterly Data'!D18/'Quarterly Data'!D70 -> 0.00017392664 | E24: ='Quarterly Data'!E18/'Quarterly Data'!E70 -> 0.0016611562 | F24: ='Quarterly Data'!F18/'Quarterly Data'!F70 -> 0 | G24: ='Quarterly Data'!G18/'Quarterly Data'!G70 -> 0 | H24: ='Quarterly Data'!H18/'Quarterly Data'!H70 -> 0 | I24: ='Quarterly Data'!I18/'Quarterly Data'!I70 -> 0 | ... AQ24: ='Quarterly Data'!AQ18/'Quarterly Data'!AQ70 -> 0.00052849485
A25: Add/Less: condo activity, sold-asset NOI and other items | B25: =('Quarterly Data'!B19+'Quarterly Data'!B20+'Quarterly Data'!B21)/'Quarterly Data'!B70 -> -0.0056982427 | C25: =('Quarterly Data'!C19+'Quarterly Data'!C20+'Quarterly Data'!C21)/'Quarterly Data'!C70 -> -0.0094549868 | D25: =('Quarterly Data'!D19+'Quarterly Data'!D20+'Quarterly Data'!D21)/'Quarterly Data'!D70 -> -0.043679303 | E25: =('Quarterly Data'!E19+'Quarterly Data'!E20+'Quarterly Data'!E21)/'Quarterly Data'!E70 -> -0.0013210147 | F25: =('Quarterly Data'!F19+'Quarterly Data'!F20+'Quarterly Data'!F21)/'Quarterly Data'!F70 -> -0.010903281 | G25: =('Quarterly Data'!G19+'Quarterly Data'!G20+'Quarterly Data'!G21)/'Quarterly Data'!G70 -> -0.0080658967 | H25: =('Quarterly Data'!H19+'Quarterly Data'!H20+'Quarterly Data'!H21)/'Quarterly Data'!H70 -> -0.014517454 | I25: =('Quarterly Data'!I19+'Quarterly Data'!I20+'Quarterly Data'!I21)/'Quarterly Data'!I70 -> -0.010487135 | ... AQ25: =('Quarterly Data'!AQ19+'Quarterly Data'!AQ20+'Quarterly Data'!AQ21)/'Quarterly Data'!AQ70 -> -0.0084861173
A26: NOI (derived; ties to published, Quarterly Data row 24) | B26: ='Quarterly Data'!B22/'Quarterly Data'!B70 -> 2.8354171 | C26: ='Quarterly Data'!C22/'Quarterly Data'!C70 -> 2.7585717 | D26: ='Quarterly Data'!D22/'Quarterly Data'!D70 -> 2.764722 | E26: ='Quarterly Data'!E22/'Quarterly Data'!E70 -> 2.8820902 | F26: ='Quarterly Data'!F22/'Quarterly Data'!F70 -> 2.8502844 | G26: ='Quarterly Data'!G22/'Quarterly Data'!G70 -> 2.8525844 | H26: ='Quarterly Data'!H22/'Quarterly Data'!H70 -> 2.9328588 | I26: ='Quarterly Data'!I22/'Quarterly Data'!I70 -> 2.9929318 | ... AQ26: ='Quarterly Data'!AQ22/'Quarterly Data'!AQ70 -> 3.9957533
A27: Implied cap rate (NOI per share x4 / stabilized TEV per share) | B27: =B26*4/B10 -> 0.046928774 | C27: =C26*4/C10 -> 0.047024826 | D27: =D26*4/D10 -> 0.047708934 | E27: =E26*4/E10 -> 0.049510725 | F27: =F26*4/F10 -> 0.04779172 | G27: =G26*4/G10 -> 0.046282821 | H27: =H26*4/H10 -> 0.050192177 | I27: =I26*4/I10 -> 0.051026232 | ... AQ27: =AQ26*4/AQ10 -> 0.062359279
A28: Per-share yield calculation; may differ slightly from the whole-dollar equivalent because flow metrics use weighted average diluted shares while capitalization uses period-end share counts.
A30: FFO, Core FFO, AFFO
A31: Net income attributable to common stockholders | B31: ='Quarterly Data'!B6/'Quarterly Data'!B70 -> 1.880428 | C31: ='Quarterly Data'!C6/'Quarterly Data'!C70 -> 1.5661329 | D31: ='Quarterly Data'!D6/'Quarterly Data'!D70 -> 2.8175483 | E31: ='Quarterly Data'!E6/'Quarterly Data'!E70 -> 1.9161437 | F31: ='Quarterly Data'!F6/'Quarterly Data'!F70 -> 1.854226 | G31: ='Quarterly Data'!G6/'Quarterly Data'!G70 -> 1.2838996 | H31: ='Quarterly Data'!H6/'Quarterly Data'!H70 -> 1.8456534 | I31: ='Quarterly Data'!I6/'Quarterly Data'!I70 -> 1.8199124 | ... AQ31: ='Quarterly Data'!AQ6/'Quarterly Data'!AQ70 -> 1.1756745
A32: AVB publishes FFO and Core FFO directly (release Attachment 1); the derivation walk is not rebuilt here. Dollar figures tie to published on the Quarterly Data tab.
A38: FFO (as published) | B38: ='Quarterly Data'!B26/'Quarterly Data'!B70 -> 2.249162 | C38: ='Quarterly Data'!C26/'Quarterly Data'!C70 -> 2.1700464 | D38: ='Quarterly Data'!D26/'Quarterly Data'!D70 -> 2.2888271 | E38: ='Quarterly Data'!E26/'Quarterly Data'!E70 -> 2.2787899 | F38: ='Quarterly Data'!F26/'Quarterly Data'!F70 -> 2.2026436 | G38: ='Quarterly Data'!G26/'Quarterly Data'!G70 -> 2.0382008 | H38: ='Quarterly Data'!H26/'Quarterly Data'!H70 -> 2.506213 | I38: ='Quarterly Data'!I26/'Quarterly Data'!I70 -> 2.3073842 | ... AQ38: ='Quarterly Data'!AQ26/'Quarterly Data'!AQ70 -> 2.925974
A39: FFO per share x4 / stabilized market cap per share | B39: =B38*4/B8 -> 0.047300988 | C39: =C38*4/C8 -> 0.048118995 | D39: =D38*4/D8 -> 0.051480592 | E39: =E38*4/E8 -> 0.051454472 | F39: =F38*4/F8 -> 0.047987878 | G39: =G38*4/G8 -> 0.042424953 | H39: =H38*4/H8 -> 0.056186818 | I39: =I38*4/I8 -> 0.051732171 | ... AQ39: =AQ38*4/AQ8 -> 0.062027113
A40: Per-share yield calculation; may differ slightly from the whole-dollar equivalent because flow metrics use weighted average diluted shares while capitalization uses period-end share counts.
A41: Add/Less: non-core adjustments, net (sign varies) | B41: ='Quarterly Data'!B28/'Quarterly Data'!B70 -> -0.10711274 | C41: ='Quarterly Data'!C28/'Quarterly Data'!C70 -> 0.038660743 | D41: ='Quarterly Data'!D28/'Quarterly Data'!D70 -> -0.037987159 | E41: ='Quarterly Data'!E28/'Quarterly Data'!E70 -> 0.02423706 | F41: ='Quarterly Data'!F28/'Quarterly Data'!F70 -> 0.056403059 | G41: ='Quarterly Data'!G28/'Quarterly Data'!G70 -> 0.20275862 | H41: ='Quarterly Data'!H28/'Quarterly Data'!H70 -> -0.15635314 | I41: ='Quarterly Data'!I28/'Quarterly Data'!I70 -> 0.074099383 | ... AQ41: ='Quarterly Data'!AQ28/'Quarterly Data'!AQ70 -> 0.13956794
A42: Core FFO (as published) | B42: ='Quarterly Data'!B27/'Quarterly Data'!B70 -> 2.1420493 | C42: ='Quarterly Data'!C27/'Quarterly Data'!C70 -> 2.2087071 | D42: ='Quarterly Data'!D27/'Quarterly Data'!D70 -> 2.2508399 | E42: ='Quarterly Data'!E27/'Quarterly Data'!E70 -> 2.303027 | F42: ='Quarterly Data'!F27/'Quarterly Data'!F70 -> 2.2590467 | G42: ='Quarterly Data'!G27/'Quarterly Data'!G70 -> 2.2409594 | H42: ='Quarterly Data'!H27/'Quarterly Data'!H70 -> 2.3498599 | I42: ='Quarterly Data'!I27/'Quarterly Data'!I70 -> 2.3814836 | ... AQ42: ='Quarterly Data'!AQ27/'Quarterly Data'!AQ70 -> 3.0655419
A43: Core FFO per share x4 / stabilized market cap per share | B43: =B42*4/B8 -> 0.045048355 | C43: =C42*4/C8 -> 0.048976265 | D43: =D42*4/D8 -> 0.05062618 | E43: =E42*4/E8 -> 0.052001738 | F43: =F42*4/F8 -> 0.049216703 | G43: =G42*4/G8 -> 0.046645354 | H43: =H42*4/H8 -> 0.052681535 | I43: =I42*4/I8 -> 0.053393499 | ... AQ43: =AQ42*4/AQ8 -> 0.064985785
A44: Per-share yield calculation; may differ slightly from the whole-dollar equivalent because flow metrics use weighted average diluted shares while capitalization uses period-end share counts.
A45: Asset Preservation capex, discrete quarter (2018+) | J45: ='Quarterly Data'!J41/'Quarterly Data'!J70 -> 0.11146987 | K45: ='Quarterly Data'!K41/'Quarterly Data'!K70 -> 0.13052434 | L45: ='Quarterly Data'!L41/'Quarterly Data'!L70 -> 0.13786987 | M45: ='Quarterly Data'!M41/'Quarterly Data'!M70 -> 0.15760633 | N45: ='Quarterly Data'!N41/'Quarterly Data'!N70 -> 0.12038439 | O45: ='Quarterly Data'!O41/'Quarterly Data'!O70 -> 0.13788337 | P45: ='Quarterly Data'!P41/'Quarterly Data'!P70 -> 0.20748063 | Q45: ='Quarterly Data'!Q41/'Quarterly Data'!Q70 -> 0.21075761 | ... AQ45: ='Quarterly Data'!AQ41/'Quarterly Data'!AQ70 -> 0.4561137
A46: Capital expenditures, existing real estate, discrete quarter (10-Q) | B46: ='Quarterly Data'!B43/'Quarterly Data'!B70 -> 0.09181995 | C46: ='Quarterly Data'!C43/'Quarterly Data'!C70 -> 0.10373517 | D46: ='Quarterly Data'!D43/'Quarterly Data'!D70 -> 0.14486508 | E46: ='Quarterly Data'!E43/'Quarterly Data'!E70 -> 0.18945882 | F46: ='Quarterly Data'!F43/'Quarterly Data'!F70 -> 0.063006344 | G46: ='Quarterly Data'!G43/'Quarterly Data'!G70 -> 0.11189683 | H46: ='Quarterly Data'!H43/'Quarterly Data'!H70 -> 0.15024093 | I46: ='Quarterly Data'!I43/'Quarterly Data'!I70 -> 0.17903968 | ... AQ46: ='Quarterly Data'!AQ43/'Quarterly Data'!AQ70 -> 0.5647647
A47: 2016-2017: no quarterly Asset Preservation disclosure exists; recurring capex uses the cash-flow line above as a flagged proxy (Option A, Chip 2026-08-17).
A48: Recurring capex (Option A) | B48: ='Quarterly Data'!B44/'Quarterly Data'!B70 -> 0.09181995 | C48: ='Quarterly Data'!C44/'Quarterly Data'!C70 -> 0.10373517 | D48: ='Quarterly Data'!D44/'Quarterly Data'!D70 -> 0.14486508 | E48: ='Quarterly Data'!E44/'Quarterly Data'!E70 -> 0.18945882 | F48: ='Quarterly Data'!F44/'Quarterly Data'!F70 -> 0.063006344 | G48: ='Quarterly Data'!G44/'Quarterly Data'!G70 -> 0.11189683 | H48: ='Quarterly Data'!H44/'Quarterly Data'!H70 -> 0.15024093 | I48: ='Quarterly Data'!I44/'Quarterly Data'!I70 -> 0.17903968 | ... AQ48: ='Quarterly Data'!AQ44/'Quarterly Data'!AQ70 -> 0.4561137
...

Sheet CHARTS
A1: AVB: Quarterly Charts, As Reported
A2: As-reported denominators: weighted average diluted shares; market cap and TEV from price x shares+units.
A4: CAGR summary, Q1 2016 to Q2 2026 | F4: Trailing yields (as reported; quarterly figures annualized x4)
A5: Years: | B5: =(42-1)/4 -> 10.25
A6: Metric | B6: Whole company | C6: Per share | H6: TTM | I6: Q3 25 | J6: Q4 25 | K6: Q1 26 | L6: Q2 26
A7: AFFO | B7: =('Quarterly Data'!AQ45/'Quarterly Data'!B45)^(1/$B$5)-1 -> 0.02838722 | C7: =(('Quarterly Data'!AQ45/'Quarterly Data'!AQ51)/('Quarterly Data'!B45/'Quarterly Data'!B51))^(1/$B$5)-1 -> 0.025192672 | F7: AFFO / MKT CAP | H7: =SUM('Quarterly Data'!AN45:AQ45)/'Quarterly Data'!AQ56 -> 0.051919005 | I7: ='Quarterly Data'!AN45*4/'Quarterly Data'!AN56 -> 0.050440744 | J7: ='Quarterly Data'!AO45*4/'Quarterly Data'!AO56 -> 0.055291923 | K7: ='Quarterly Data'!AP45*4/'Quarterly Data'!AP56 -> 0.061606504 | L7: ='Quarterly Data'!AQ45*4/'Quarterly Data'!AQ56 -> 0.051288075
A8: EBITDAre | B8: =('Quarterly Data'!AQ35/'Quarterly Data'!B35)^(1/$B$5)-1 -> 0.035147912 | C8: =(('Quarterly Data'!AQ35/'Quarterly Data'!AQ51)/('Quarterly Data'!B35/'Quarterly Data'!B51))^(1/$B$5)-1 -> 0.031932363 | F8: FFO / MKT CAP | H8: =SUM('Quarterly Data'!AN26:AQ26)/'Quarterly Data'!AQ56 -> 0.059384589 | I8: ='Quarterly Data'!AN26*4/'Quarterly Data'!AN56 -> 0.062702954 | J8: ='Quarterly Data'!AO26*4/'Quarterly Data'!AO56 -> 0.062151733 | K8: ='Quarterly Data'!AP26*4/'Quarterly Data'!AP56 -> 0.067013167 | L8: ='Quarterly Data'!AQ26*4/'Quarterly Data'!AQ56 -> 0.057509753
A9: EBITDA | B9: =('Quarterly Data'!AQ30/'Quarterly Data'!B30)^(1/$B$5)-1 -> 0.011643266 | C9: =(('Quarterly Data'!AQ30/'Quarterly Data'!AQ51)/('Quarterly Data'!B30/'Quarterly Data'!B51))^(1/$B$5)-1 -> 0.0085007313 | F9: EBITDAre / TEV | H9: =SUM('Quarterly Data'!AN35:AQ35)/'Quarterly Data'!AQ63 -> 0.053049944 | I9: ='Quarterly Data'!AN35*4/'Quarterly Data'!AN63 -> 0.055778915 | J9: ='Quarterly Data'!AO35*4/'Quarterly Data'!AO63 -> 0.05434614 | K9: ='Quarterly Data'!AP35*4/'Quarterly Data'!AP63 -> 0.057355716 | L9: ='Quarterly Data'!AQ35*4/'Quarterly Data'!AQ63 -> 0.051789028
A10: FFO | B10: =('Quarterly Data'!AQ26/'Quarterly Data'!B26)^(1/$B$5)-1 -> 0.030585824 | C10: =(('Quarterly Data'!AQ26/'Quarterly Data'!AQ51)/('Quarterly Data'!B26/'Quarterly Data'!B51))^(1/$B$5)-1 -> 0.027384446 | F10: NOI / TEV | H10: =SUM('Quarterly Data'!AN22:AQ22)/'Quarterly Data'!AQ63 -> 0.057444915 | I10: ='Quarterly Data'!AN22*4/'Quarterly Data'!AN63 -> 0.055539789 | J10: ='Quarterly Data'!AO22*4/'Quarterly Data'!AO63 -> 0.059150662 | K10: ='Quarterly Data'!AP22*4/'Quarterly Data'!AP63 -> 0.064170949 | L10: ='Quarterly Data'!AQ22*4/'Quarterly Data'!AQ63 -> 0.058837236
F11: Trailing yields above are computed on whole dollars (Quarterly Data); per-share yields on the Quarterly tabs may differ slightly (share-count basis).
A12: Single-quarter endpoints, seasonally unadjusted. 2016-2017 EBITDAre is CRE42-derived (Sources tab); CAGRs mix that basis with published 2018+ figures.
A13: Annual per share, 2016-2026 (2026 = first half annualized x2)
B14: 2016 | C14: 2017 | D14: 2018 | E14: 2019 | F14: 2020 | G14: 2021 | H14: 2022 | I14: 2023 | J14: 2024 | K14: 2025 | L14: 2026 ann.
A15: NOI | B15: =SUM('Quarterly Data'!B22:E22)/AVERAGE('Quarterly Data'!B51:E51) -> 10.334551 | C15: =SUM('Quarterly Data'!F22:I22)/AVERAGE('Quarterly Data'!F51:I51) -> 10.85706 | D15: =SUM('Quarterly Data'!J22:M22)/AVERAGE('Quarterly Data'!J51:M51) -> 11.41958 | E15: =SUM('Quarterly Data'!N22:Q22)/AVERAGE('Quarterly Data'!N51:Q51) -> 11.714129 | F15: =SUM('Quarterly Data'!R22:U22)/AVERAGE('Quarterly Data'!R51:U51) -> 11.167972 | G15: =SUM('Quarterly Data'!V22:Y22)/AVERAGE('Quarterly Data'!V51:Y51) -> 10.937507 | H15: =SUM('Quarterly Data'!Z22:AC22)/AVERAGE('Quarterly Data'!Z51:AC51) -> 12.698296 | I15: =SUM('Quarterly Data'!AD22:AG22)/AVERAGE('Quarterly Data'!AD51:AG51) -> 13.369933 | J15: =SUM('Quarterly Data'!AH22:AK22)/AVERAGE('Quarterly Data'!AH51:AK51) -> 13.978748 | K15: =SUM('Quarterly Data'!AL22:AO22)/AVERAGE('Quarterly Data'!AL51:AO51) -> 14.313777 | L15: =SUM('Quarterly Data'!AP22:AQ22)*2/AVERAGE('Quarterly Data'!AP51:AQ51) -> 14.813318
